BEGIN:VCALENDAR
METHOD:PUBLISH
PRODID:Data::ICal 0.13
VERSION:2.0
BEGIN:VEVENT
DESCRIPTION:The Holidays are here, and so are the hot deals at Metro PCS! This Monday at 2003 W Galbraith Rd. Cincinnati, OH from 4-6p. 101.1 The Wiz will be giving away great holiday prizes every 15 minutes! An X-Box One, Beats by Dre, Visa gift cards, and more!!!
DTSTAMP:20260422T010318Z
DTSTART;TZID=America/New_York:20161219T160000
DTEND;TZID=America/New_York:20161219T180000
LOCATION:
SUMMARY:Metro Mondays
UID:2425236-1482163200-1482170400
END:VEVENT
END:VCALENDAR
